View In:
ArcGIS JavaScript
ArcGIS Online Map Viewer
ArcGIS Earth
Service Description: DEM_T52NR34W_tif
Name: DEM_T52NR34W_tif
Description:
Single Fused Map Cache: false
Extent:
XMin: 2.582750000000002E7
YMin: 757500.0000000122
XMax: 2.586000000000002E7
YMax: 790000.0000000122
Spatial Reference: 0
(0)
LatestVCSWkid(0)
Initial Extent:
XMin: 2.582750000000002E7
YMin: 757500.0000000122
XMax: 2.586000000000002E7
YMax: 790000.0000000122
Spatial Reference: 0
(0)
LatestVCSWkid(0)
Full Extent:
XMin: 2.582750000000002E7
YMin: 757500.0000000122
XMax: 2.586000000000002E7
YMax: 790000.0000000122
Spatial Reference: 0
(0)
LatestVCSWkid(0)
Pixel Size X: 2.0
Pixel Size Y: 2.0
Band Count: 1
Pixel Type: F32
RasterFunction Infos: {"rasterFunctionInfos": [{
"name": "None",
"description": "",
"help": ""
}]}
Mensuration Capabilities: Basic
Inspection Capabilities:
Has Histograms: false
Has Colormap: false
Has Multi Dimensions : false
Rendering Rule:
Min Scale: 0
Max Scale: 0
Copyright Text:
Service Data Type: esriImageServiceDataTypeGeneric
Min Values: 611.48193359375
Max Values: 960.20886230469
Mean Values: 766.87066979255
Standard Deviation Values: 92.923278087036
Object ID Field:
Fields:
None
Default Mosaic Method: Center
Allowed Mosaic Methods:
SortField:
SortValue: null
Mosaic Operator: First
Default Compression Quality: 75
Default Resampling Method: Bilinear
Max Record Count: null
Max Image Height: 4100
Max Image Width: 15000
Max Download Image Count: null
Max Mosaic Image Count: null
Allow Raster Function: true
Allow Copy: true
Allow Analysis: true
Allow Compute TiePoints: false
Supports Statistics: false
Supports Advanced Queries: false
Use StandardizedQueries: true
Raster Type Infos:
Name: Raster Dataset
Description: Supports all ArcGIS Raster Datasets
Help:
Has Raster Attribute Table: false
Edit Fields Info: null
Ownership Based AccessControl For Rasters: null
Child Resources:
Info
Statistics
Key Properties
Legend
Raster Function Infos
Supported Operations:
Export Image
Identify
Measure
Compute Histograms
Compute Statistics Histograms
Get Samples
Compute Class Statistics
Query Boundary
Compute Pixel Location
Compute Angles
Validate
Project